BEGIN:VCALENDAR
VERSION:2.0
CALSCALE:GREGORIAN
PRODID:-//Diputació de Barcelona//DibaCMS//EN
BEGIN:VEVENT
UID:8518
DTSTAMP:20260420T224740
DTSTART:20250717T090000
DTEND:20250717T100000
SUMMARY:Viu l'estiu a l'Alt Berguedà - Meditació
LOCATION:Passeig Bastareny, s/n 08695 Bagà
METHOD:PUBLISH
X-WR-CALNAME:baga@baga.cat
X-WR-TIMEZONE:Europe/Madrid
DESCRIPTION:
URI:https://www.baga.cat/actualitat/agenda/viu-lestiu-a-lalt-bergueda-meditacio.html
CLASS:PUBLIC
END:VEVENT
END:VCALENDAR
