BEGIN:VCALENDAR
VERSION:2.0
CALSCALE:GREGORIAN
PRODID:-//Diputació de Barcelona//DibaCMS//EN
BEGIN:VEVENT
UID:8517
DTSTAMP:20260420T224910
DTSTART:20250719T190000
DTEND:20250719T190000
SUMMARY:Viu l'estiu a l'Alt Berguedà - Caminada a la fresca
LOCATION:c/ Historiador Pere Tomic, 1 08695 Bagà
METHOD:PUBLISH
X-WR-CALNAME:baga@baga.cat
X-WR-TIMEZONE:Europe/Madrid
DESCRIPTION:
URI:https://www.baga.cat/actualitat/agenda/viu-lestiu-a-lalt-bergueda-caminada-a-la-fresca.html
CLASS:PUBLIC
END:VEVENT
END:VCALENDAR
