BEGIN:VCALENDAR
VERSION:2.0
CALSCALE:GREGORIAN
PRODID:-//Diputació de Barcelona//DibaCMS//EN
BEGIN:VEVENT
UID:8510
DTSTAMP:20260420T132652
DTSTART:20250715T000000
DTEND:20250803T000000
SUMMARY:Tennis 6è Torneig Festa Major
LOCATION:
METHOD:PUBLISH
X-WR-CALNAME:baga@baga.cat
X-WR-TIMEZONE:Europe/Madrid
DESCRIPTION:
URI:https://www.baga.cat/actualitat/agenda/tennis-6e-torneig-festa-major.html
CLASS:PUBLIC
END:VEVENT
END:VCALENDAR
