BEGIN:VCALENDAR
VERSION:2.0
CALSCALE:GREGORIAN
PRODID:-//Diputació de Barcelona//DibaCMS//EN
BEGIN:VEVENT
UID:8509
DTSTAMP:20260420T225607
DTSTART:20250719T180000
DTEND:20250719T180000
SUMMARY:Setmana Cultural: El Bastareny, un riu marginat?
LOCATION:Pujada a Palau, 7 08695 Bagà
METHOD:PUBLISH
X-WR-CALNAME:baga@baga.cat
X-WR-TIMEZONE:Europe/Madrid
DESCRIPTION:
URI:https://www.baga.cat/actualitat/agenda/setmana-cultural-el-bastareny-un-riu-marginat.html
CLASS:PUBLIC
END:VEVENT
END:VCALENDAR
