BEGIN:VCALENDAR
VERSION:2.0
CALSCALE:GREGORIAN
PRODID:-//Diputació de Barcelona//DibaCMS//EN
BEGIN:VEVENT
UID:8508
DTSTAMP:20260421T002858
DTSTART:20250720T180000
DTEND:20250720T180000
SUMMARY:Setmana Cultural: Com creiem que es va construir l'església de Sant Esteve?
LOCATION:Pujada a Palau, 7 08695 Bagà
METHOD:PUBLISH
X-WR-CALNAME:baga@baga.cat
X-WR-TIMEZONE:Europe/Madrid
DESCRIPTION:
URI:https://www.baga.cat/actualitat/agenda/setmana-cultural-com-creiem-que-es-va-construir-lesglesia-de-sant-esteve.html
CLASS:PUBLIC
END:VEVENT
END:VCALENDAR
