BEGIN:VCALENDAR
VERSION:2.0
CALSCALE:GREGORIAN
PRODID:-//Diputació de Barcelona//DibaCMS//EN
BEGIN:VEVENT
UID:8500
DTSTAMP:20260420T224758
DTSTART:20250802T000000
DTEND:20250802T000000
SUMMARY:Gran concurs de tir al plat
LOCATION:
METHOD:PUBLISH
X-WR-CALNAME:baga@baga.cat
X-WR-TIMEZONE:Europe/Madrid
DESCRIPTION:
URI:https://www.baga.cat/actualitat/agenda/8500-gran-concurs-de-tir-al-plat.html
CLASS:PUBLIC
END:VEVENT
END:VCALENDAR
