BEGIN:VCALENDAR
VERSION:2.0
CALSCALE:GREGORIAN
PRODID:-//Diputació de Barcelona//DibaCMS//EN
BEGIN:VEVENT
UID:8499
DTSTAMP:20260420T163209
DTSTART:20250711T000000
DTEND:20250713T000000
SUMMARY:3er. Festival Musico-Cultural
LOCATION:
METHOD:PUBLISH
X-WR-CALNAME:baga@baga.cat
X-WR-TIMEZONE:Europe/Madrid
DESCRIPTION:
URI:https://www.baga.cat/actualitat/agenda/3er-festival-musico-cultural.html
CLASS:PUBLIC
END:VEVENT
END:VCALENDAR
