BEGIN:VCALENDAR
VERSION:2.0
CALSCALE:GREGORIAN
PRODID:-//Diputació de Barcelona//DibaCMS//EN
BEGIN:VEVENT
UID:8498
DTSTAMP:20260420T143919
DTSTART:20250705T000000
DTEND:20250706T000000
SUMMARY:Diada Castellera a Bagà
LOCATION:Pl Catalunya 
METHOD:PUBLISH
X-WR-CALNAME:baga@baga.cat
X-WR-TIMEZONE:Europe/Madrid
DESCRIPTION:
URI:https://www.baga.cat/actualitat/agenda/8498-diada-castellera-a-baga.html
CLASS:PUBLIC
END:VEVENT
END:VCALENDAR
