BEGIN:VCALENDAR
VERSION:2.0
CALSCALE:GREGORIAN
PRODID:-//Diputació de Barcelona//DibaCMS//EN
BEGIN:VEVENT
UID:8495
DTSTAMP:20260421T000132
DTSTART:20250723T113000
DTEND:20250723T123000
SUMMARY:Viu l'estiu a l'Alt Berguedà - Aquagim
LOCATION:Passeig Bastareny, s/n 08695 Bagà
METHOD:PUBLISH
X-WR-CALNAME:baga@baga.cat
X-WR-TIMEZONE:Europe/Madrid
DESCRIPTION:
URI:https://www.baga.cat/actualitat/agenda/viu-lestiu-a-lalt-bergueda-aquagim.html
CLASS:PUBLIC
END:VEVENT
END:VCALENDAR
