BEGIN:VCALENDAR
VERSION:2.0
CALSCALE:GREGORIAN
PRODID:-//Diputació de Barcelona//DibaCMS//EN
BEGIN:VEVENT
UID:8492
DTSTAMP:20260420T130640
DTSTART:20250630T000000
DTEND:20250731T000000
SUMMARY:Cursets de Natació
LOCATION:Passeig Bastareny, s/n 08695 Bagà
METHOD:PUBLISH
X-WR-CALNAME:baga@baga.cat
X-WR-TIMEZONE:Europe/Madrid
DESCRIPTION:
URI:https://www.baga.cat/actualitat/agenda/8492-cursets-de-natacio.html
CLASS:PUBLIC
END:VEVENT
END:VCALENDAR
