BEGIN:VCALENDAR
VERSION:2.0
CALSCALE:GREGORIAN
PRODID:-//Diputació de Barcelona//DibaCMS//EN
BEGIN:VEVENT
UID:8486
DTSTAMP:20260420T142500
DTSTART:20250621T100000
DTEND:20250621T120000
SUMMARY:PORTES OBERTES CCR
LOCATION:Camp Municipal de Guardiola de Berguedà 
METHOD:PUBLISH
X-WR-CALNAME:baga@baga.cat
X-WR-TIMEZONE:Europe/Madrid
DESCRIPTION:
URI:https://www.baga.cat/actualitat/agenda/portes-obertes-ccr.html
CLASS:PUBLIC
END:VEVENT
END:VCALENDAR
