BEGIN:VCALENDAR
VERSION:2.0
CALSCALE:GREGORIAN
PRODID:-//Diputació de Barcelona//DibaCMS//EN
BEGIN:VEVENT
UID:8485
DTSTAMP:20260420T185137
DTSTART:20250624T180000
DTEND:20250624T180000
SUMMARY:APLEC DE SANT JOAN DE L'AVELLANET
LOCATION:Sant Joan de l'Avellanet 08695 Bagà
METHOD:PUBLISH
X-WR-CALNAME:baga@baga.cat
X-WR-TIMEZONE:Europe/Madrid
DESCRIPTION:
URI:https://www.baga.cat/actualitat/agenda/aplec-de-sant-joan-de-lavellanet.html
CLASS:PUBLIC
END:VEVENT
END:VCALENDAR
