BEGIN:VCALENDAR
VERSION:2.0
CALSCALE:GREGORIAN
PRODID:-//Diputació de Barcelona//DibaCMS//EN
BEGIN:VEVENT
UID:8484
DTSTAMP:20260420T145943
DTSTART:20250628T120000
DTEND:20250628T150000
SUMMARY:Orgull LGTBIQ+ BAGÀ 2025
LOCATION:Plaça Catalunya 
METHOD:PUBLISH
X-WR-CALNAME:baga@baga.cat
X-WR-TIMEZONE:Europe/Madrid
DESCRIPTION:
URI:https://www.baga.cat/actualitat/agenda/orgull-lgtbiq-baga-2025.html
CLASS:PUBLIC
END:VEVENT
END:VCALENDAR
