BEGIN:VCALENDAR
VERSION:2.0
CALSCALE:GREGORIAN
PRODID:-//Diputació de Barcelona//DibaCMS//EN
BEGIN:VEVENT
UID:8479
DTSTAMP:20260420T132832
DTSTART:20250621T170000
DTEND:20250621T200000
SUMMARY:Festa de Sant Joan al Club Bagà Gran
LOCATION:Club Bagà Gran 
METHOD:PUBLISH
X-WR-CALNAME:baga@baga.cat
X-WR-TIMEZONE:Europe/Madrid
DESCRIPTION:
URI:https://www.baga.cat/actualitat/agenda/festa-de-sant-joan-al-club-baga-gran.html
CLASS:PUBLIC
END:VEVENT
END:VCALENDAR
