BEGIN:VCALENDAR
VERSION:2.0
CALSCALE:GREGORIAN
PRODID:-//Diputació de Barcelona//DibaCMS//EN
BEGIN:VEVENT
UID:8468
DTSTAMP:20260421T133310
DTSTART:20250601T090000
DTEND:20250601T090000
SUMMARY:Curses Coll de Pal i Puigllançada
LOCATION:
METHOD:PUBLISH
X-WR-CALNAME:baga@baga.cat
X-WR-TIMEZONE:Europe/Madrid
DESCRIPTION:
URI:https://www.baga.cat/actualitat/agenda/curses-coll-de-pal-i-puigllancada.html
CLASS:PUBLIC
END:VEVENT
END:VCALENDAR
