BEGIN:VCALENDAR
VERSION:2.0
CALSCALE:GREGORIAN
PRODID:-//Diputació de Barcelona//DibaCMS//EN
BEGIN:VEVENT
UID:8465
DTSTAMP:20260420T204311
DTSTART:20250615T080000
DTEND:20250615T080000
SUMMARY:Caminada popular de Bagà
LOCATION:
METHOD:PUBLISH
X-WR-CALNAME:baga@baga.cat
X-WR-TIMEZONE:Europe/Madrid
DESCRIPTION:
URI:https://www.baga.cat/actualitat/agenda/caminada-popular-de-baga.html
CLASS:PUBLIC
END:VEVENT
END:VCALENDAR
