BEGIN:VCALENDAR
VERSION:2.0
CALSCALE:GREGORIAN
PRODID:-//Diputació de Barcelona//DibaCMS//EN
BEGIN:VEVENT
UID:8460
DTSTAMP:20260420T190533
DTSTART:20250525T133000
DTEND:20250525T133000
SUMMARY:Dinar Esbart Cadí
LOCATION:Esplanada de Paller 
METHOD:PUBLISH
X-WR-CALNAME:baga@baga.cat
X-WR-TIMEZONE:Europe/Madrid
DESCRIPTION:
URI:https://www.baga.cat/actualitat/agenda/dinar-esbart-cadi.html
CLASS:PUBLIC
END:VEVENT
END:VCALENDAR
