BEGIN:VCALENDAR
VERSION:2.0
CALSCALE:GREGORIAN
PRODID:-//Diputació de Barcelona//DibaCMS//EN
BEGIN:VEVENT
UID:8454
DTSTAMP:20260420T160237
DTSTART:20250530T190000
DTEND:20250530T190000
SUMMARY:Seminari permanent Recerques del Berguedà
LOCATION:Pujada a Palau, 7 08695 Bagà
METHOD:PUBLISH
X-WR-CALNAME:baga@baga.cat
X-WR-TIMEZONE:Europe/Madrid
DESCRIPTION:
URI:https://www.baga.cat/actualitat/agenda/seminari-permanent-recerques-del-bergueda.html
CLASS:PUBLIC
END:VEVENT
END:VCALENDAR
