BEGIN:VCALENDAR
VERSION:2.0
CALSCALE:GREGORIAN
PRODID:-//Diputació de Barcelona//DibaCMS//EN
BEGIN:VEVENT
UID:8453
DTSTAMP:20260420T221851
DTSTART:20250510T183000
DTEND:20250510T183000
SUMMARY:Presentació HUMANS A AUSCHWITZ
LOCATION:c/ Historiador Pere Tomic, 1 08695 Bagà
METHOD:PUBLISH
X-WR-CALNAME:baga@baga.cat
X-WR-TIMEZONE:Europe/Madrid
DESCRIPTION:
URI:https://www.baga.cat/actualitat/agenda/presentacio-humans-a-auschwitz.html
CLASS:PUBLIC
END:VEVENT
END:VCALENDAR
