BEGIN:VCALENDAR
VERSION:2.0
CALSCALE:GREGORIAN
PRODID:-//Diputació de Barcelona//DibaCMS//EN
BEGIN:VEVENT
UID:8442
DTSTAMP:20260420T174902
DTSTART:20250518T113000
DTEND:20250518T113000
SUMMARY:Festa de la Família - Coca i xocolata
LOCATION:Plaça de la Vila 
METHOD:PUBLISH
X-WR-CALNAME:baga@baga.cat
X-WR-TIMEZONE:Europe/Madrid
DESCRIPTION:
URI:https://www.baga.cat/actualitat/agenda/festa-de-la-familia-coca-i-xocolata.html
CLASS:PUBLIC
END:VEVENT
END:VCALENDAR
