BEGIN:VCALENDAR
VERSION:2.0
CALSCALE:GREGORIAN
PRODID:-//Diputació de Barcelona//DibaCMS//EN
BEGIN:VEVENT
UID:8440
DTSTAMP:20260420T163849
DTSTART:20250517T183000
DTEND:20250517T183000
SUMMARY:Festa de la Família - Cinema en Família
LOCATION:Plaça Raval, 5 08695 Bagà
METHOD:PUBLISH
X-WR-CALNAME:baga@baga.cat
X-WR-TIMEZONE:Europe/Madrid
DESCRIPTION:
URI:https://www.baga.cat/actualitat/agenda/festa-de-la-familia-cinema-en-familia.html
CLASS:PUBLIC
END:VEVENT
END:VCALENDAR
