BEGIN:VCALENDAR
VERSION:2.0
CALSCALE:GREGORIAN
PRODID:-//Diputació de Barcelona//DibaCMS//EN
BEGIN:VEVENT
UID:8437
DTSTAMP:20260420T210921
DTSTART:20250517T100000
DTEND:20250517T100000
SUMMARY:Festa de la Família - Biodansa en Família
LOCATION:Plaça Raval, 5 08695 Bagà
METHOD:PUBLISH
X-WR-CALNAME:baga@baga.cat
X-WR-TIMEZONE:Europe/Madrid
DESCRIPTION:
URI:https://www.baga.cat/actualitat/agenda/festa-de-la-familia-biodansa-en-familia.html
CLASS:PUBLIC
END:VEVENT
END:VCALENDAR
