BEGIN:VCALENDAR
VERSION:2.0
CALSCALE:GREGORIAN
PRODID:-//Diputació de Barcelona//DibaCMS//EN
BEGIN:VEVENT
UID:8431
DTSTAMP:20260420T155417
DTSTART:20250427T083000
DTEND:20250427T083000
SUMMARY:Excursió a LA RIERA DE GRAUGÉS
LOCATION:
METHOD:PUBLISH
X-WR-CALNAME:baga@baga.cat
X-WR-TIMEZONE:Europe/Madrid
DESCRIPTION:
URI:https://www.baga.cat/actualitat/agenda/8431-excursio-a-la-riera-de-grauges.html
CLASS:PUBLIC
END:VEVENT
END:VCALENDAR
