BEGIN:VCALENDAR
VERSION:2.0
CALSCALE:GREGORIAN
PRODID:-//Diputació de Barcelona//DibaCMS//EN
BEGIN:VEVENT
UID:8428
DTSTAMP:20260420T192343
DTSTART:20250427T173000
DTEND:20250427T173000
SUMMARY:La Festa de primavera de l'Esbart
LOCATION:Plaça Raval, 5 08695 Bagà
METHOD:PUBLISH
X-WR-CALNAME:baga@baga.cat
X-WR-TIMEZONE:Europe/Madrid
DESCRIPTION:
URI:https://www.baga.cat/actualitat/agenda/la-festa-de-primavera-de-lesbart.html
CLASS:PUBLIC
END:VEVENT
END:VCALENDAR
