BEGIN:VCALENDAR
VERSION:2.0
CALSCALE:GREGORIAN
PRODID:-//Diputació de Barcelona//DibaCMS//EN
BEGIN:VEVENT
UID:8424
DTSTAMP:20260420T192310
DTSTART:20250419T120000
DTEND:20250419T120000
SUMMARY:Recital teatralitzat amb Hug Casals
LOCATION:Plaça Galceran de Pinós 08695 Bagà
METHOD:PUBLISH
X-WR-CALNAME:baga@baga.cat
X-WR-TIMEZONE:Europe/Madrid
DESCRIPTION:
URI:https://www.baga.cat/actualitat/agenda/recital-teatralitzat-amb-hug-casals.html
CLASS:PUBLIC
END:VEVENT
END:VCALENDAR
