BEGIN:VCALENDAR
VERSION:2.0
CALSCALE:GREGORIAN
PRODID:-//Diputació de Barcelona//DibaCMS//EN
BEGIN:VEVENT
UID:8422
DTSTAMP:20260420T130535
DTSTART:20250415T000000
DTEND:20250430T235900
SUMMARY:Fes la teva proposta als Pressupostos Participatius!
LOCATION:
METHOD:PUBLISH
X-WR-CALNAME:baga@baga.cat
X-WR-TIMEZONE:Europe/Madrid
DESCRIPTION:
URI:https://www.baga.cat/actualitat/agenda/fes-la-teva-proposta-als-pressupostos-participatius.html
CLASS:PUBLIC
END:VEVENT
END:VCALENDAR
