BEGIN:VCALENDAR
VERSION:2.0
CALSCALE:GREGORIAN
PRODID:-//Diputació de Barcelona//DibaCMS//EN
BEGIN:VEVENT
UID:8417
DTSTAMP:20260420T192748
DTSTART:20250423T100000
DTEND:20250423T123000
SUMMARY:V Marató de Lectura per la Llengua
LOCATION:Plaça Tiraval 
METHOD:PUBLISH
X-WR-CALNAME:baga@baga.cat
X-WR-TIMEZONE:Europe/Madrid
DESCRIPTION:
URI:https://www.baga.cat/actualitat/agenda/v-marato-de-lectura-per-la-llengua.html
CLASS:PUBLIC
END:VEVENT
END:VCALENDAR
