BEGIN:VCALENDAR
VERSION:2.0
CALSCALE:GREGORIAN
PRODID:-//Diputació de Barcelona//DibaCMS//EN
BEGIN:VEVENT
UID:8409
DTSTAMP:20260420T142941
DTSTART:20250405T090000
DTEND:20250405T130000
SUMMARY:OAC oberta
LOCATION:Plaça Catalunya, 7 bis 
METHOD:PUBLISH
X-WR-CALNAME:baga@baga.cat
X-WR-TIMEZONE:Europe/Madrid
DESCRIPTION:
URI:https://www.baga.cat/actualitat/agenda/oac-oberta.html
CLASS:PUBLIC
END:VEVENT
END:VCALENDAR
