BEGIN:VCALENDAR
VERSION:2.0
CALSCALE:GREGORIAN
PRODID:-//Diputació de Barcelona//DibaCMS//EN
BEGIN:VEVENT
UID:8406
DTSTAMP:20260420T192731
DTSTART:20250420T080000
DTEND:20250420T080000
SUMMARY:Caramelles - Pasqua 2025
LOCATION:
METHOD:PUBLISH
X-WR-CALNAME:baga@baga.cat
X-WR-TIMEZONE:Europe/Madrid
DESCRIPTION:
URI:https://www.baga.cat/actualitat/agenda/caramelles-pasqua-2025.html
CLASS:PUBLIC
END:VEVENT
END:VCALENDAR
