BEGIN:VCALENDAR
VERSION:2.0
CALSCALE:GREGORIAN
PRODID:-//Diputació de Barcelona//DibaCMS//EN
BEGIN:VEVENT
UID:8405
DTSTAMP:20260420T211116
DTSTART:20250413T083000
DTEND:20250413T083000
SUMMARY:Excursió al TOSSAL LLISOL DES DE LA TORRE DE FOIX
LOCATION:
METHOD:PUBLISH
X-WR-CALNAME:baga@baga.cat
X-WR-TIMEZONE:Europe/Madrid
DESCRIPTION:
URI:https://www.baga.cat/actualitat/agenda/excursio-al-tossal-llisol-des-de-la-torre-de-foix.html
CLASS:PUBLIC
END:VEVENT
END:VCALENDAR
