BEGIN:VCALENDAR
VERSION:2.0
CALSCALE:GREGORIAN
PRODID:-//Diputació de Barcelona//DibaCMS//EN
BEGIN:VEVENT
UID:8389
DTSTAMP:20260420T160026
DTSTART:20250402T180000
DTEND:20250402T180000
SUMMARY:Presentació del conte "DRIM, LA MÀGIA DE SER ÚNIC"
LOCATION:Plaça Raval, 5 08695 Bagà
METHOD:PUBLISH
X-WR-CALNAME:baga@baga.cat
X-WR-TIMEZONE:Europe/Madrid
DESCRIPTION:
URI:https://www.baga.cat/actualitat/agenda/presentacio-del-conte-drim-la-magia-de-ser-unic.html
CLASS:PUBLIC
END:VEVENT
END:VCALENDAR
