BEGIN:VCALENDAR
VERSION:2.0
CALSCALE:GREGORIAN
PRODID:-//Diputació de Barcelona//DibaCMS//EN
BEGIN:VEVENT
UID:8385
DTSTAMP:20260420T173029
DTSTART:20250315T100000
DTEND:20250315T130000
SUMMARY:Entrenament amb Jan Torrella
LOCATION:
METHOD:PUBLISH
X-WR-CALNAME:baga@baga.cat
X-WR-TIMEZONE:Europe/Madrid
DESCRIPTION:
URI:https://www.baga.cat/actualitat/agenda/entrenament-amb-jan-torrella.html
CLASS:PUBLIC
END:VEVENT
END:VCALENDAR
