BEGIN:VCALENDAR
VERSION:2.0
CALSCALE:GREGORIAN
PRODID:-//Diputació de Barcelona//DibaCMS//EN
BEGIN:VEVENT
UID:8371
DTSTAMP:20260420T155509
DTSTART:20250424T100000
DTEND:20250424T100000
SUMMARY:Marxa nòrdica
LOCATION:
METHOD:PUBLISH
X-WR-CALNAME:baga@baga.cat
X-WR-TIMEZONE:Europe/Madrid
DESCRIPTION:
URI:https://www.baga.cat/actualitat/agenda/8371-marxa-nordica.html
CLASS:PUBLIC
END:VEVENT
END:VCALENDAR
