BEGIN:VCALENDAR
VERSION:2.0
CALSCALE:GREGORIAN
PRODID:-//Diputació de Barcelona//DibaCMS//EN
BEGIN:VEVENT
UID:8370
DTSTAMP:20260420T221533
DTSTART:20250315T170000
DTEND:20250315T170000
SUMMARY:Musicoteràpia
LOCATION:c/ Historiador Pere Tomic, 1 08695 Bagà
METHOD:PUBLISH
X-WR-CALNAME:baga@baga.cat
X-WR-TIMEZONE:Europe/Madrid
DESCRIPTION:
URI:https://www.baga.cat/actualitat/agenda/musicoterapia.html
CLASS:PUBLIC
END:VEVENT
END:VCALENDAR
