BEGIN:VCALENDAR
VERSION:2.0
CALSCALE:GREGORIAN
PRODID:-//Diputació de Barcelona//DibaCMS//EN
BEGIN:VEVENT
UID:8363
DTSTAMP:20260420T160043
DTSTART:20250327T100000
DTEND:20250327T100000
SUMMARY:Marxa nòrdica
LOCATION:
METHOD:PUBLISH
X-WR-CALNAME:baga@baga.cat
X-WR-TIMEZONE:Europe/Madrid
DESCRIPTION:
URI:https://www.baga.cat/actualitat/agenda/8363-marxa-nordica.html
CLASS:PUBLIC
END:VEVENT
END:VCALENDAR
