BEGIN:VCALENDAR
VERSION:2.0
CALSCALE:GREGORIAN
PRODID:-//Diputació de Barcelona//DibaCMS//EN
BEGIN:VEVENT
UID:8357
DTSTAMP:20260420T202615
DTSTART:20250308T140000
DTEND:20250308T140000
SUMMARY:Arrossada popular i ball amb Fermí Riu
LOCATION:Passeig de Gibellàs, 1 08695 Bagà
METHOD:PUBLISH
X-WR-CALNAME:baga@baga.cat
X-WR-TIMEZONE:Europe/Madrid
DESCRIPTION:
URI:https://www.baga.cat/actualitat/agenda/arrossada-popular-i-ball-amb-fermi-riu.html
CLASS:PUBLIC
END:VEVENT
END:VCALENDAR
