BEGIN:VCALENDAR
VERSION:2.0
CALSCALE:GREGORIAN
PRODID:-//Diputació de Barcelona//DibaCMS//EN
BEGIN:VEVENT
UID:8355
DTSTAMP:20260420T191327
DTSTART:20250223T000000
DTEND:20250223T000000
SUMMARY:Cercavila i vermut folk amb l'Escola de Folk del Pirineu
LOCATION:
METHOD:PUBLISH
X-WR-CALNAME:baga@baga.cat
X-WR-TIMEZONE:Europe/Madrid
DESCRIPTION:
URI:https://www.baga.cat/actualitat/agenda/cercavila-i-vermut-folk-amb-lescola-de-folk-del-pirineu.html
CLASS:PUBLIC
END:VEVENT
END:VCALENDAR
