BEGIN:VCALENDAR
VERSION:2.0
CALSCALE:GREGORIAN
PRODID:-//Diputació de Barcelona//DibaCMS//EN
BEGIN:VEVENT
UID:8340
DTSTAMP:20260420T155229
DTSTART:20250207T000000
DTEND:20250207T000000
SUMMARY:Anul·lació sevei de Voluminosos
LOCATION:
METHOD:PUBLISH
X-WR-CALNAME:baga@baga.cat
X-WR-TIMEZONE:Europe/Madrid
DESCRIPTION:
URI:https://www.baga.cat/actualitat/agenda/anullacio-sevei-de-voluminosos.html
CLASS:PUBLIC
END:VEVENT
END:VCALENDAR
