BEGIN:VCALENDAR
VERSION:2.0
CALSCALE:GREGORIAN
PRODID:-//Diputació de Barcelona//DibaCMS//EN
BEGIN:VEVENT
UID:8338
DTSTAMP:20260420T143946
DTSTART:20250301T000000
DTEND:20250301T000000
SUMMARY:Sopar de Carnestoltes 2025
LOCATION:Passeig de Gibellàs, 1 08695 Bagà
METHOD:PUBLISH
X-WR-CALNAME:baga@baga.cat
X-WR-TIMEZONE:Europe/Madrid
DESCRIPTION:
URI:https://www.baga.cat/actualitat/agenda/sopar-de-carnestoltes-2025.html
CLASS:PUBLIC
END:VEVENT
END:VCALENDAR
