BEGIN:VCALENDAR
VERSION:2.0
CALSCALE:GREGORIAN
PRODID:-//Diputació de Barcelona//DibaCMS//EN
BEGIN:VEVENT
UID:8320
DTSTAMP:20260420T174416
DTSTART:20250118T170000
DTEND:20250118T170000
SUMMARY:Festa del soci - Bagà Gran
LOCATION:c/ Historiador Pere Tomic, 1 08695 Bagà
METHOD:PUBLISH
X-WR-CALNAME:baga@baga.cat
X-WR-TIMEZONE:Europe/Madrid
DESCRIPTION:
URI:https://www.baga.cat/actualitat/agenda/8320-festa-del-soci-baga-gran.html
CLASS:PUBLIC
END:VEVENT
END:VCALENDAR
