BEGIN:VCALENDAR
VERSION:2.0
CALSCALE:GREGORIAN
PRODID:-//Diputació de Barcelona//DibaCMS//EN
BEGIN:VEVENT
UID:8319
DTSTAMP:20260420T221601
DTSTART:20251204T100000
DTEND:20251204T100000
SUMMARY:Cicle de caminades saludables  
LOCATION:Sortida des del Club Bagà Gran 
METHOD:PUBLISH
X-WR-CALNAME:baga@baga.cat
X-WR-TIMEZONE:Europe/Madrid
DESCRIPTION:
URI:https://www.baga.cat/actualitat/agenda/8319-cicle-de-caminades-saludables-.html
CLASS:PUBLIC
END:VEVENT
END:VCALENDAR
