BEGIN:VCALENDAR
VERSION:2.0
CALSCALE:GREGORIAN
PRODID:-//Diputació de Barcelona//DibaCMS//EN
BEGIN:VEVENT
UID:8310
DTSTAMP:20260421T133700
DTSTART:20250109T100000
DTEND:20250109T100000
SUMMARY:Cicle de caminades saludables
LOCATION:Sortida des del Club Bagà Gran 
METHOD:PUBLISH
X-WR-CALNAME:baga@baga.cat
X-WR-TIMEZONE:Europe/Madrid
DESCRIPTION:
URI:https://www.baga.cat/actualitat/agenda/cicle-de-caminades-saludables.html
CLASS:PUBLIC
END:VEVENT
END:VCALENDAR
