BEGIN:VCALENDAR
VERSION:2.0
CALSCALE:GREGORIAN
PRODID:-//Diputació de Barcelona//DibaCMS//EN
BEGIN:VEVENT
UID:8299
DTSTAMP:20260420T221501
DTSTART:20241227T000000
DTEND:20241227T000000
SUMMARY:Mercat de Nadal 
LOCATION:
METHOD:PUBLISH
X-WR-CALNAME:baga@baga.cat
X-WR-TIMEZONE:Europe/Madrid
DESCRIPTION:
URI:https://www.baga.cat/actualitat/agenda/mercat-de-nadal-.html
CLASS:PUBLIC
END:VEVENT
END:VCALENDAR
