BEGIN:VCALENDAR
VERSION:2.0
CALSCALE:GREGORIAN
PRODID:-//Diputació de Barcelona//DibaCMS//EN
BEGIN:VEVENT
UID:8298
DTSTAMP:20260420T101944
DTSTART:20250101T003000
DTEND:20250101T003000
SUMMARY:Revetlla de Cap d'Any
LOCATION:Passeig de Gibellàs, 1 08695 Bagà
METHOD:PUBLISH
X-WR-CALNAME:baga@baga.cat
X-WR-TIMEZONE:Europe/Madrid
DESCRIPTION:
URI:https://www.baga.cat/actualitat/agenda/revetlla-de-cap-dany.html
CLASS:PUBLIC
END:VEVENT
END:VCALENDAR
