BEGIN:VCALENDAR
VERSION:2.0
CALSCALE:GREGORIAN
PRODID:-//Diputació de Barcelona//DibaCMS//EN
BEGIN:VEVENT
UID:8292
DTSTAMP:20260420T160747
DTSTART:20250106T180000
DTEND:20250106T180000
SUMMARY:Els Pastorets
LOCATION:Plaça Raval, 5 08695 Bagà
METHOD:PUBLISH
X-WR-CALNAME:baga@baga.cat
X-WR-TIMEZONE:Europe/Madrid
DESCRIPTION:
URI:https://www.baga.cat/actualitat/agenda/8292-els-pastorets.html
CLASS:PUBLIC
END:VEVENT
END:VCALENDAR
