BEGIN:VCALENDAR
VERSION:2.0
CALSCALE:GREGORIAN
PRODID:-//Diputació de Barcelona//DibaCMS//EN
BEGIN:VEVENT
UID:8291
DTSTAMP:20260420T221733
DTSTART:20241225T220000
DTEND:20241225T220000
SUMMARY:Els Pastorets
LOCATION:Plaça Raval, 5 08695 Bagà
METHOD:PUBLISH
X-WR-CALNAME:baga@baga.cat
X-WR-TIMEZONE:Europe/Madrid
DESCRIPTION:
URI:https://www.baga.cat/actualitat/agenda/8291-els-pastorets.html
CLASS:PUBLIC
END:VEVENT
END:VCALENDAR
