BEGIN:VCALENDAR
VERSION:2.0
CALSCALE:GREGORIAN
PRODID:-//Diputació de Barcelona//DibaCMS//EN
BEGIN:VEVENT
UID:8288
DTSTAMP:20260420T221348
DTSTART:20241224T235900
DTEND:20241224T235900
SUMMARY:Nit de Nadal
LOCATION:Passeig de Gibellàs, 1 08695 Bagà
METHOD:PUBLISH
X-WR-CALNAME:baga@baga.cat
X-WR-TIMEZONE:Europe/Madrid
DESCRIPTION:
URI:https://www.baga.cat/actualitat/agenda/8288-nit-de-nadal.html
CLASS:PUBLIC
END:VEVENT
END:VCALENDAR
