BEGIN:VCALENDAR
VERSION:2.0
CALSCALE:GREGORIAN
PRODID:-//Diputació de Barcelona//DibaCMS//EN
BEGIN:VEVENT
UID:8282
DTSTAMP:20260420T234655
DTSTART:20241215T123000
DTEND:20241215T123000
SUMMARY:Ball obert + Vermut solidari
LOCATION:Plaça Catalunya 
METHOD:PUBLISH
X-WR-CALNAME:baga@baga.cat
X-WR-TIMEZONE:Europe/Madrid
DESCRIPTION:
URI:https://www.baga.cat/actualitat/agenda/ball-obert--vermut-solidari.html
CLASS:PUBLIC
END:VEVENT
END:VCALENDAR
