BEGIN:VCALENDAR
VERSION:2.0
CALSCALE:GREGORIAN
PRODID:-//Diputació de Barcelona//DibaCMS//EN
BEGIN:VEVENT
UID:8281
DTSTAMP:20260420T204402
DTSTART:20241214T100000
DTEND:20241214T200000
SUMMARY:Parada i cercavila Gegants de Bagà
LOCATION:Plaça Raval i carrers de la vila 
METHOD:PUBLISH
X-WR-CALNAME:baga@baga.cat
X-WR-TIMEZONE:Europe/Madrid
DESCRIPTION:
URI:https://www.baga.cat/actualitat/agenda/parada-i-cercavila-gegants-de-baga.html
CLASS:PUBLIC
END:VEVENT
END:VCALENDAR
