BEGIN:VCALENDAR
VERSION:2.0
CALSCALE:GREGORIAN
PRODID:-//Diputació de Barcelona//DibaCMS//EN
BEGIN:VEVENT
UID:8277
DTSTAMP:20260421T001548
DTSTART:20241214T120000
DTEND:20241214T120000
SUMMARY:Tast Escudella Blat de Moro Escairat - Per La Marató
LOCATION:Plaça Raval 
METHOD:PUBLISH
X-WR-CALNAME:baga@baga.cat
X-WR-TIMEZONE:Europe/Madrid
DESCRIPTION:
URI:https://www.baga.cat/actualitat/agenda/tast-escudella-blat-de-moro-escairat-per-la-marato.html
CLASS:PUBLIC
END:VEVENT
END:VCALENDAR
